BEGIN:VCALENDAR
VERSION:2.0
PRODID:-//St. Nikolaus Schützenbruderschaft 1702 e.V. Freienohl - ECPv6.6.2//NONSGML v1.0//EN
CALSCALE:GREGORIAN
METHOD:PUBLISH
X-ORIGINAL-URL:https://schuetzen-freienohl.de
X-WR-CALDESC:Veranstaltungen für St. Nikolaus Schützenbruderschaft 1702 e.V. Freienohl
REFRESH-INTERVAL;VALUE=DURATION:PT1H
X-Robots-Tag:noindex
X-PUBLISHED-TTL:PT1H
BEGIN:VTIMEZONE
TZID:Europe/Berlin
BEGIN:DAYLIGHT
TZOFFSETFROM:+0100
TZOFFSETTO:+0200
TZNAME:CEST
DTSTART:20260329T010000
END:DAYLIGHT
BEGIN:STANDARD
TZOFFSETFROM:+0200
TZOFFSETTO:+0100
TZNAME:CET
DTSTART:20261025T010000
END:STANDARD
END:VTIMEZONE
BEGIN:VEVENT
DTSTART;VALUE=DATE:20260808
DTEND;VALUE=DATE:20260810
DTSTAMP:20260424T104645
CREATED:20260202T122226Z
LAST-MODIFIED:20260202T122226Z
UID:8049-1786147200-1786319999@schuetzen-freienohl.de
SUMMARY:3. Kompanie - Kompaniefest
DESCRIPTION:
URL:https://schuetzen-freienohl.de/event/3-kompanie-kompaniefest-2
LOCATION:Festplatz der Dritten Kompanie\, Im Ohl 19a\, Meschede\, NRW\, 59872\, Deutschland
ORGANIZER;CN="Dritte Kompanie der St. Nikolaus Sch%C3%BCtzenbruderschaft":MAILTO:info@schuetzen-freienohl.de
END:VEVENT
END:VCALENDAR