BEGIN:VCALENDAR
VERSION:2.0
PRODID:-//St. Nikolaus Schützenbruderschaft 1702 e.V. Freienohl - ECPv6.6.2//NONSGML v1.0//EN
CALSCALE:GREGORIAN
METHOD:PUBLISH
X-WR-CALNAME:St. Nikolaus Schützenbruderschaft 1702 e.V. Freienohl
X-ORIGINAL-URL:https://schuetzen-freienohl.de
X-WR-CALDESC:Veranstaltungen für St. Nikolaus Schützenbruderschaft 1702 e.V. Freienohl
REFRESH-INTERVAL;VALUE=DURATION:PT1H
X-Robots-Tag:noindex
X-PUBLISHED-TTL:PT1H
BEGIN:VTIMEZONE
TZID:Europe/Berlin
BEGIN:DAYLIGHT
TZOFFSETFROM:+0100
TZOFFSETTO:+0200
TZNAME:CEST
DTSTART:20260329T010000
END:DAYLIGHT
BEGIN:STANDARD
TZOFFSETFROM:+0200
TZOFFSETTO:+0100
TZNAME:CET
DTSTART:20261025T010000
END:STANDARD
END:VTIMEZONE
BEGIN:VEVENT
DTSTART;VALUE=DATE:20260813
DTEND;VALUE=DATE:20260814
DTSTAMP:20260424T133439
CREATED:20260202T122323Z
LAST-MODIFIED:20260202T122323Z
UID:8051-1786579200-1786665599@schuetzen-freienohl.de
SUMMARY:TuRa "Alte Herren"-Treff bei Luckai
DESCRIPTION:
URL:https://schuetzen-freienohl.de/event/tura-alte-herren-treff-bei-luckai-3
LOCATION:Freienohl
END:VEVENT
END:VCALENDAR