BEGIN:VCALENDAR
VERSION:2.0
PRODID:-//St. Nikolaus Schützenbruderschaft 1702 e.V. Freienohl - ECPv6.6.2//NONSGML v1.0//EN
CALSCALE:GREGORIAN
METHOD:PUBLISH
X-WR-CALNAME:St. Nikolaus Schützenbruderschaft 1702 e.V. Freienohl
X-ORIGINAL-URL:https://schuetzen-freienohl.de
X-WR-CALDESC:Veranstaltungen für St. Nikolaus Schützenbruderschaft 1702 e.V. Freienohl
REFRESH-INTERVAL;VALUE=DURATION:PT1H
X-Robots-Tag:noindex
X-PUBLISHED-TTL:PT1H
BEGIN:VTIMEZONE
TZID:Europe/Berlin
BEGIN:DAYLIGHT
TZOFFSETFROM:+0100
TZOFFSETTO:+0200
TZNAME:CEST
DTSTART:20260329T010000
END:DAYLIGHT
BEGIN:STANDARD
TZOFFSETFROM:+0200
TZOFFSETTO:+0100
TZNAME:CET
DTSTART:20261025T010000
END:STANDARD
END:VTIMEZONE
BEGIN:VEVENT
DTSTART;VALUE=DATE:20260418
DTEND;VALUE=DATE:20260419
DTSTAMP:20260421T163304
CREATED:20260202T081922Z
LAST-MODIFIED:20260202T081922Z
UID:7981-1776470400-1776556799@schuetzen-freienohl.de
SUMMARY:TuRa "Alte Herren" - 60. Geburtstagsfeier
DESCRIPTION:
URL:https://schuetzen-freienohl.de/event/tura-alte-herren-60-geburtstagsfeier
LOCATION:TuRa Freienohl – Sportlerheim\, Im Ohl 1\, Meschede\, NRW\, 59872\, Deutschland
ATTACH;FMTTYPE=image/png:https://schuetzen-freienohl.de/wp-content/uploads/2024/04/LogoTura.png
END:VEVENT
BEGIN:VEVENT
DTSTART;VALUE=DATE:20260418
DTEND;VALUE=DATE:20260419
DTSTAMP:20260421T163305
CREATED:20260202T081826Z
LAST-MODIFIED:20260202T081826Z
UID:7979-1776470400-1776556799@schuetzen-freienohl.de
SUMMARY:Bundesversammlung der Schützen
DESCRIPTION:
URL:https://schuetzen-freienohl.de/event/bundesversammlung-der-schuetzen
LOCATION:Freienohl
ATTACH;FMTTYPE=image/jpeg:https://schuetzen-freienohl.de/wp-content/uploads/2025/01/Schuetzenfest2024_Samstag_Bild-251-scaled.jpg
ORGANIZER;CN="St. Nikolaus Sch%C3%BCtzenbruderschaft":MAILTO:info@schuetzen-freienohl.de
END:VEVENT
BEGIN:VEVENT
DTSTART;VALUE=DATE:20260406
DTEND;VALUE=DATE:20260407
DTSTAMP:20260421T163305
CREATED:20260202T081737Z
LAST-MODIFIED:20260202T081737Z
UID:7977-1775433600-1775519999@schuetzen-freienohl.de
SUMMARY:2. Kompanie - Osterwanderung
DESCRIPTION:
URL:https://schuetzen-freienohl.de/event/2-kompanie-osterwanderung-2
LOCATION:Freizeitanlage am Küppel der Zweiten Kompanie\, Alte Wiese 10\, Meschede\, NRW\, 59872\, Deutschland
ATTACH;FMTTYPE=image/jpeg:https://schuetzen-freienohl.de/wp-content/uploads/2024/04/2.-Kompanie-scaled.jpg
ORGANIZER;CN="Zweite Kompanie der St. Nikolaus Sch%C3%BCtzenbruderschaft":MAILTO:info@schuetzen-freienohl.de
END:VEVENT
BEGIN:VEVENT
DTSTART;VALUE=DATE:20260405
DTEND;VALUE=DATE:20260406
DTSTAMP:20260421T163305
CREATED:20260202T081645Z
LAST-MODIFIED:20260202T081645Z
UID:7975-1775347200-1775433599@schuetzen-freienohl.de
SUMMARY:CCG Westfalen Meschede - Offener Clubabend
DESCRIPTION:
URL:https://schuetzen-freienohl.de/event/ccg-westfalen-meschede-offener-clubabend-2
LOCATION:Clubhaus des Chopper Club Germany in Freienohl\, Im Ohl 19\, Meschede\, NRW\, 59872\, Germany
ATTACH;FMTTYPE=image/jpeg:https://schuetzen-freienohl.de/wp-content/uploads/2026/02/483837895_9680645651956467_1119831006593296564_n.jpg
END:VEVENT
BEGIN:VEVENT
DTSTART;VALUE=DATE:20260405
DTEND;VALUE=DATE:20260406
DTSTAMP:20260421T163305
CREATED:20260202T081552Z
LAST-MODIFIED:20260202T081552Z
UID:7973-1775347200-1775433599@schuetzen-freienohl.de
SUMMARY:Osterkreuzbeleuchtung der 1. Kompanie
DESCRIPTION:
URL:https://schuetzen-freienohl.de/event/osterkreuzbeleuchtung-der-1-kompanie
LOCATION:Freizeitheim Rümmecke der Ersten Kompanie\, Talweg 30\, Meschede\, NRW\, 59872\, Deutschland
ATTACH;FMTTYPE=image/jpeg:https://schuetzen-freienohl.de/wp-content/uploads/2024/04/1.-Kompanie-scaled.jpg
ORGANIZER;CN="Erste Kompanie der St. Nikolaus Sch%C3%BCtzenbruderschaft":MAILTO:info@schuetzen-freienohl.de
END:VEVENT
BEGIN:VEVENT
DTSTART;VALUE=DATE:20260405
DTEND;VALUE=DATE:20260406
DTSTAMP:20260421T163305
CREATED:20260202T081456Z
LAST-MODIFIED:20260202T081456Z
UID:7970-1775347200-1775433599@schuetzen-freienohl.de
SUMMARY:Osterfeuer auf dem Platz der 3. Kompanie
DESCRIPTION:
URL:https://schuetzen-freienohl.de/event/osterfeuer-auf-dem-platz-der-3-kompanie
LOCATION:Festplatz der Dritten Kompanie\, Im Ohl 19a\, Meschede\, NRW\, 59872\, Deutschland
ATTACH;FMTTYPE=image/jpeg:https://schuetzen-freienohl.de/wp-content/uploads/2026/02/238031653_1680178446_v16_9_1200.jpeg
ORGANIZER;CN="St. Nikolaus Sch%C3%BCtzenbruderschaft":MAILTO:info@schuetzen-freienohl.de
END:VEVENT
BEGIN:VEVENT
DTSTART;VALUE=DATE:20260329
DTEND;VALUE=DATE:20260330
DTSTAMP:20260421T163305
CREATED:20260202T081039Z
LAST-MODIFIED:20260202T081039Z
UID:7966-1774742400-1774828799@schuetzen-freienohl.de
SUMMARY:1. Kompanie - Generalversammlung
DESCRIPTION:
URL:https://schuetzen-freienohl.de/event/1-kompanie-generalversammlung-2
LOCATION:Freizeitheim Rümmecke der Ersten Kompanie\, Talweg 30\, Meschede\, NRW\, 59872\, Deutschland
ATTACH;FMTTYPE=image/jpeg:https://schuetzen-freienohl.de/wp-content/uploads/2024/04/1.-Kompanie-scaled.jpg
ORGANIZER;CN="Erste Kompanie der St. Nikolaus Sch%C3%BCtzenbruderschaft":MAILTO:info@schuetzen-freienohl.de
END:VEVENT
BEGIN:VEVENT
DTSTART;VALUE=DATE:20260328
DTEND;VALUE=DATE:20260329
DTSTAMP:20260421T163305
CREATED:20260202T080940Z
LAST-MODIFIED:20260202T080940Z
UID:7964-1774656000-1774742399@schuetzen-freienohl.de
SUMMARY:TuRa "Alte Herren" - Papiersammlung am Sportplatz
DESCRIPTION:
URL:https://schuetzen-freienohl.de/event/tura-alte-herren-papiersammlung-am-sportplatz
LOCATION:TuRa Freienohl – Sportlerheim\, Im Ohl 1\, Meschede\, NRW\, 59872\, Deutschland
ATTACH;FMTTYPE=image/png:https://schuetzen-freienohl.de/wp-content/uploads/2024/04/LogoTura.png
END:VEVENT
BEGIN:VEVENT
DTSTART;VALUE=DATE:20260328
DTEND;VALUE=DATE:20260329
DTSTAMP:20260421T163305
CREATED:20260202T080849Z
LAST-MODIFIED:20260202T080849Z
UID:7962-1774656000-1774742399@schuetzen-freienohl.de
SUMMARY:ASV Äsche / SGV / Jugendfeuerwehr - Aktion Saubere Ruhr
DESCRIPTION:
URL:https://schuetzen-freienohl.de/event/asv-aesche-sgv-jugendfeuerwehr-aktion-saubere-ruhr
LOCATION:Freienohl
ATTACH;FMTTYPE=image/jpeg:https://schuetzen-freienohl.de/wp-content/uploads/2023/01/Ku╠eppelturm2022_Bild-120-scaled.jpeg
END:VEVENT
BEGIN:VEVENT
DTSTART;VALUE=DATE:20260328
DTEND;VALUE=DATE:20260329
DTSTAMP:20260421T163305
CREATED:20260202T080741Z
LAST-MODIFIED:20260202T080741Z
UID:7960-1774656000-1774742399@schuetzen-freienohl.de
SUMMARY:1. Kompanie - Erster Quizabend
DESCRIPTION:
URL:https://schuetzen-freienohl.de/event/1-kompanie-erster-quizabend
LOCATION:Freizeitheim Rümmecke der Ersten Kompanie\, Talweg 30\, Meschede\, NRW\, 59872\, Deutschland
ATTACH;FMTTYPE=image/jpeg:https://schuetzen-freienohl.de/wp-content/uploads/2024/04/1.-Kompanie-scaled.jpg
ORGANIZER;CN="Erste Kompanie der St. Nikolaus Sch%C3%BCtzenbruderschaft":MAILTO:info@schuetzen-freienohl.de
END:VEVENT
BEGIN:VEVENT
DTSTART;VALUE=DATE:20260327
DTEND;VALUE=DATE:20260328
DTSTAMP:20260421T163305
CREATED:20260202T080649Z
LAST-MODIFIED:20260202T080649Z
UID:7958-1774569600-1774655999@schuetzen-freienohl.de
SUMMARY:Tennisverein - Generalversammlung
DESCRIPTION:
URL:https://schuetzen-freienohl.de/event/tennisverein-generalversammlung-2
LOCATION:Tennisheim Freienohl\, Im Ohl 11\, Meschede\, NRW\, 59872\, Deutschland
ATTACH;FMTTYPE=image/jpeg:https://schuetzen-freienohl.de/wp-content/uploads/2024/04/tennis-5782695_1280.jpg
END:VEVENT
BEGIN:VEVENT
DTSTART;VALUE=DATE:20260321
DTEND;VALUE=DATE:20260322
DTSTAMP:20260421T163305
CREATED:20260202T080549Z
LAST-MODIFIED:20260202T080549Z
UID:7956-1774051200-1774137599@schuetzen-freienohl.de
SUMMARY:3. Kompanie - Generalversammlung
DESCRIPTION:
URL:https://schuetzen-freienohl.de/event/3-kompanie-generalversammlung
LOCATION:Schützenhalle Freienohl\, Pestalozzistraße 2\, Meschede - Freienohl\, NRW\, 59872\, Deutschland
ATTACH;FMTTYPE=image/jpeg:https://schuetzen-freienohl.de/wp-content/uploads/2024/04/3.-Kompanie-scaled.jpg
ORGANIZER;CN="Dritte Kompanie der St. Nikolaus Sch%C3%BCtzenbruderschaft":MAILTO:info@schuetzen-freienohl.de
END:VEVENT
BEGIN:VEVENT
DTSTART;VALUE=DATE:20260315
DTEND;VALUE=DATE:20260316
DTSTAMP:20260421T163305
CREATED:20260202T080451Z
LAST-MODIFIED:20260202T080451Z
UID:7954-1773532800-1773619199@schuetzen-freienohl.de
SUMMARY:TuRa Turnen und Leichtathletik - 41. Freienohler Crosslauf
DESCRIPTION:
URL:https://schuetzen-freienohl.de/event/tura-turnen-und-leichtathletik-41-freienohler-crosslauf
LOCATION:TuRa Freienohl – Sportlerheim\, Im Ohl 1\, Meschede\, NRW\, 59872\, Deutschland
ATTACH;FMTTYPE=image/png:https://schuetzen-freienohl.de/wp-content/uploads/2024/04/LogoTura.png
END:VEVENT
BEGIN:VEVENT
DTSTART;VALUE=DATE:20260314
DTEND;VALUE=DATE:20260315
DTSTAMP:20260421T163305
CREATED:20260202T080342Z
LAST-MODIFIED:20260202T080342Z
UID:7952-1773446400-1773532799@schuetzen-freienohl.de
SUMMARY:CCG Westfalen Meschede - offener Clubabend
DESCRIPTION:
URL:https://schuetzen-freienohl.de/event/ccg-westfalen-meschede-offener-clubabend
LOCATION:Clubhaus des Chopper Club Germany in Freienohl\, Im Ohl 19\, Meschede\, NRW\, 59872\, Germany
ATTACH;FMTTYPE=image/jpeg:https://schuetzen-freienohl.de/wp-content/uploads/2026/02/483837895_9680645651956467_1119831006593296564_n.jpg
END:VEVENT
BEGIN:VEVENT
DTSTART;VALUE=DATE:20260314
DTEND;VALUE=DATE:20260315
DTSTAMP:20260421T163305
CREATED:20260202T080255Z
LAST-MODIFIED:20260202T080255Z
UID:7950-1773446400-1773532799@schuetzen-freienohl.de
SUMMARY:Kreisversammlung der Schützen
DESCRIPTION:
URL:https://schuetzen-freienohl.de/event/kreisversammlung-der-schuetzen
LOCATION:Freienohl
ATTACH;FMTTYPE=image/jpeg:https://schuetzen-freienohl.de/wp-content/uploads/2025/01/Schuetzenfest2024_Samstag_Bild-251-scaled.jpg
ORGANIZER;CN="St. Nikolaus Sch%C3%BCtzenbruderschaft":MAILTO:info@schuetzen-freienohl.de
END:VEVENT
BEGIN:VEVENT
DTSTART;VALUE=DATE:20260314
DTEND;VALUE=DATE:20260315
DTSTAMP:20260421T163305
CREATED:20260202T080123Z
LAST-MODIFIED:20260202T080123Z
UID:7948-1773446400-1773532799@schuetzen-freienohl.de
SUMMARY:3. Kompanie - Papiersammlung
DESCRIPTION:
URL:https://schuetzen-freienohl.de/event/3-kompanie-papiersammlung-4
LOCATION:Freienohl
ATTACH;FMTTYPE=image/jpeg:https://schuetzen-freienohl.de/wp-content/uploads/2024/04/3.-Kompanie-scaled.jpg
ORGANIZER;CN="Dritte Kompanie der St. Nikolaus Sch%C3%BCtzenbruderschaft":MAILTO:info@schuetzen-freienohl.de
END:VEVENT
BEGIN:VEVENT
DTSTART;VALUE=DATE:20260307
DTEND;VALUE=DATE:20260308
DTSTAMP:20260421T163305
CREATED:20260202T080022Z
LAST-MODIFIED:20260202T080022Z
UID:7946-1772841600-1772927999@schuetzen-freienohl.de
SUMMARY:ASV Äsche - Jahreshauptversammlung
DESCRIPTION:
URL:https://schuetzen-freienohl.de/event/asv-aesche-jahreshauptversammlung-2
LOCATION:ASV Äsche Freienohl
ATTACH;FMTTYPE=image/jpeg:https://schuetzen-freienohl.de/wp-content/uploads/2024/04/header_defaultImage.jpg
END:VEVENT
BEGIN:VEVENT
DTSTART;VALUE=DATE:20260301
DTEND;VALUE=DATE:20260302
DTSTAMP:20260421T163305
CREATED:20260202T075915Z
LAST-MODIFIED:20260202T075915Z
UID:7942-1772323200-1772409599@schuetzen-freienohl.de
SUMMARY:Familienzentrum St. Nikolaus - Waffeltaxi
DESCRIPTION:
URL:https://schuetzen-freienohl.de/event/familienzentrum-st-nikolaus-waffeltaxi
LOCATION:Freienohl
ATTACH;FMTTYPE=image/png:https://schuetzen-freienohl.de/wp-content/uploads/2026/02/logo-kita-st-nikolaus-freienohl.png
ORGANIZER;CN="Familienzentrum St. Nikolaus Freienohl":MAILTO:nikolaus-freienohl@wirkitas.nrw
END:VEVENT
BEGIN:VEVENT
DTSTART;TZID=Europe/Berlin:20260228T193000
DTEND;TZID=Europe/Berlin:20260228T230000
DTSTAMP:20260421T163305
CREATED:20260202T081204Z
LAST-MODIFIED:20260202T081204Z
UID:7968-1772307000-1772319600@schuetzen-freienohl.de
SUMMARY:Musikverein Freienohl - Mitgliederversammlung
DESCRIPTION:
URL:https://schuetzen-freienohl.de/event/musikverein-freienohl-mitgliederversammlung
LOCATION:Haus der Musik\, Auf dem Mühlenberg 11\, Meschede\, NRW\, 59872\, Germany
ATTACH;FMTTYPE=image/jpeg:https://schuetzen-freienohl.de/wp-content/uploads/2025/01/468552653_1120791753383310_3169151308115827672_n.jpg
END:VEVENT
BEGIN:VEVENT
DTSTART;VALUE=DATE:20260228
DTEND;VALUE=DATE:20260301
DTSTAMP:20260421T163305
CREATED:20260202T075126Z
LAST-MODIFIED:20260202T075126Z
UID:7938-1772236800-1772323199@schuetzen-freienohl.de
SUMMARY:VdK Ortsverband Freienohl - Jahreshauptversammlung
DESCRIPTION:
URL:https://schuetzen-freienohl.de/event/vdk-ortsverband-freienohl-jahreshauptversammlung
LOCATION:Pfarrheim Freienohl\, Twiete 8\, Meschede\, NRW\, 59872\, Germany
ATTACH;FMTTYPE=image/png:https://schuetzen-freienohl.de/wp-content/uploads/2025/01/Sozialverband-VdK-Deutschland_Logo_335px_web.png
END:VEVENT
BEGIN:VEVENT
DTSTART;VALUE=DATE:20260227
DTEND;VALUE=DATE:20260228
DTSTAMP:20260421T163305
CREATED:20260202T075035Z
LAST-MODIFIED:20260202T075035Z
UID:7936-1772150400-1772236799@schuetzen-freienohl.de
SUMMARY:TuRa Volleyball - Abteilungsversammlung
DESCRIPTION:
URL:https://schuetzen-freienohl.de/event/tura-volleyball-abteilungsversammlung
LOCATION:TuRa Freienohl – Sportlerheim\, Im Ohl 1\, Meschede\, NRW\, 59872\, Deutschland
ATTACH;FMTTYPE=image/png:https://schuetzen-freienohl.de/wp-content/uploads/2024/04/LogoTura.png
END:VEVENT
BEGIN:VEVENT
DTSTART;VALUE=DATE:20260225
DTEND;VALUE=DATE:20260226
DTSTAMP:20260421T163305
CREATED:20260202T074938Z
LAST-MODIFIED:20260202T074938Z
UID:7934-1771977600-1772063999@schuetzen-freienohl.de
SUMMARY:TuRa Schwimmen - Abteilungsversammlung
DESCRIPTION:
URL:https://schuetzen-freienohl.de/event/tura-schwimmen-abteilungsversammlung
LOCATION:PCE-Instruments-Bad\, Im Ohl 13\, Meschede\, NRW\, 59872\, Deutschland
ATTACH;FMTTYPE=image/png:https://schuetzen-freienohl.de/wp-content/uploads/2024/04/LogoTura.png
END:VEVENT
BEGIN:VEVENT
DTSTART;VALUE=DATE:20260221
DTEND;VALUE=DATE:20260222
DTSTAMP:20260421T163305
CREATED:20260202T074830Z
LAST-MODIFIED:20260202T074830Z
UID:7932-1771632000-1771718399@schuetzen-freienohl.de
SUMMARY:2. Kompanie und e.V. - Generalversammlung
DESCRIPTION:
URL:https://schuetzen-freienohl.de/event/2-kompanie-und-e-v-generalversammlung-2
LOCATION:Freizeitanlage am Küppel der Zweiten Kompanie\, Alte Wiese 10\, Meschede\, NRW\, 59872\, Deutschland
ATTACH;FMTTYPE=image/jpeg:https://schuetzen-freienohl.de/wp-content/uploads/2024/04/2.-Kompanie-scaled.jpg
ORGANIZER;CN="Zweite Kompanie der St. Nikolaus Sch%C3%BCtzenbruderschaft":MAILTO:info@schuetzen-freienohl.de
END:VEVENT
BEGIN:VEVENT
DTSTART;VALUE=DATE:20260215
DTEND;VALUE=DATE:20260216
DTSTAMP:20260421T163305
CREATED:20260202T074739Z
LAST-MODIFIED:20260202T074739Z
UID:7930-1771113600-1771199999@schuetzen-freienohl.de
SUMMARY:TuRa Turnen und Leichtathletik - Abteilungsversammlung
DESCRIPTION:
URL:https://schuetzen-freienohl.de/event/tura-turnen-und-leichtathletik-abteilungsversammlung
LOCATION:TuRa Freienohl – Sportlerheim\, Im Ohl 1\, Meschede\, NRW\, 59872\, Deutschland
ATTACH;FMTTYPE=image/png:https://schuetzen-freienohl.de/wp-content/uploads/2024/04/LogoTura.png
END:VEVENT
BEGIN:VEVENT
DTSTART;VALUE=DATE:20260214
DTEND;VALUE=DATE:20260215
DTSTAMP:20260421T163305
CREATED:20260202T074618Z
LAST-MODIFIED:20260202T074648Z
UID:7925-1771027200-1771113599@schuetzen-freienohl.de
SUMMARY:CCG Westfalen Meschede - Offener Clubabend
DESCRIPTION:
URL:https://schuetzen-freienohl.de/event/ccg-westfalen-offener-abend
LOCATION:Clubhaus des Chopper Club Germany in Freienohl\, Im Ohl 19\, Meschede\, NRW\, 59872\, Germany
ATTACH;FMTTYPE=image/jpeg:https://schuetzen-freienohl.de/wp-content/uploads/2026/02/483837895_9680645651956467_1119831006593296564_n.jpg
END:VEVENT
BEGIN:VEVENT
DTSTART;VALUE=DATE:20260214
DTEND;VALUE=DATE:20260215
DTSTAMP:20260421T163305
CREATED:20260202T074204Z
LAST-MODIFIED:20260202T074204Z
UID:7918-1771027200-1771113599@schuetzen-freienohl.de
SUMMARY:Karneval in der Rümmecke
DESCRIPTION:
URL:https://schuetzen-freienohl.de/event/karneval-in-der-ruemmecke-2
LOCATION:Freizeitheim Rümmecke der Ersten Kompanie\, Talweg 30\, Meschede\, NRW\, 59872\, Deutschland
ATTACH;FMTTYPE=image/jpeg:https://schuetzen-freienohl.de/wp-content/uploads/2025/01/Kinderkarneva-34608385479731.jpg
ORGANIZER;CN="Erste Kompanie der St. Nikolaus Sch%C3%BCtzenbruderschaft":MAILTO:info@schuetzen-freienohl.de
END:VEVENT
BEGIN:VEVENT
DTSTART;VALUE=DATE:20260213
DTEND;VALUE=DATE:20260214
DTSTAMP:20260421T163305
CREATED:20260202T074102Z
LAST-MODIFIED:20260202T074102Z
UID:7916-1770940800-1771027199@schuetzen-freienohl.de
SUMMARY:TuRa Handball - Kinderkarneval
DESCRIPTION:
URL:https://schuetzen-freienohl.de/event/tura-handball-kinderkarneval
LOCATION:Schützenhalle Oeventrop\, In den Oeren 1\, Arnsberg\, NRW\, 59823\, Deutschland
ATTACH;FMTTYPE=image/jpeg:https://schuetzen-freienohl.de/wp-content/uploads/2025/01/Kinderkarneva-34608385479731.jpg
END:VEVENT
BEGIN:VEVENT
DTSTART;VALUE=DATE:20260212
DTEND;VALUE=DATE:20260213
DTSTAMP:20260421T163305
CREATED:20260202T074005Z
LAST-MODIFIED:20260202T074005Z
UID:7914-1770854400-1770940799@schuetzen-freienohl.de
SUMMARY:TuRa "Alte Herren" - Treff bei Luckai
DESCRIPTION:
URL:https://schuetzen-freienohl.de/event/tura-alte-herren-treff-bei-luckai
LOCATION:Freienohl
ATTACH;FMTTYPE=image/png:https://schuetzen-freienohl.de/wp-content/uploads/2024/04/LogoTura.png
END:VEVENT
BEGIN:VEVENT
DTSTART;VALUE=DATE:20260208
DTEND;VALUE=DATE:20260209
DTSTAMP:20260421T163305
CREATED:20260202T073908Z
LAST-MODIFIED:20260202T073908Z
UID:7912-1770508800-1770595199@schuetzen-freienohl.de
SUMMARY:MGV Liedertafel - Stiftungsfest
DESCRIPTION:
URL:https://schuetzen-freienohl.de/event/mgv-liedertafel-stiftungsfest
LOCATION:Schützenhalle Freienohl\, Pestalozzistraße 2\, Meschede - Freienohl\, NRW\, 59872\, Deutschland
ATTACH;FMTTYPE=image/jpeg:https://schuetzen-freienohl.de/wp-content/uploads/2024/04/Logo_Liedertafel_600x660_24BPP_200DPI-bus-2x-2.2-mtr.jpg
END:VEVENT
BEGIN:VEVENT
DTSTART;VALUE=DATE:20260207
DTEND;VALUE=DATE:20260208
DTSTAMP:20260421T163305
CREATED:20260202T073602Z
LAST-MODIFIED:20260202T073602Z
UID:7910-1770422400-1770508799@schuetzen-freienohl.de
SUMMARY:SGV Freienohl - Mitgliederversammlung
DESCRIPTION:
URL:https://schuetzen-freienohl.de/event/sgv-freienohl-mitgliederversammlung
LOCATION:Freienohl
ATTACH;FMTTYPE=image/jpeg:https://schuetzen-freienohl.de/wp-content/uploads/2024/04/mountaineers-5649828_640.jpg
END:VEVENT
END:VCALENDAR