BEGIN:VCALENDAR
VERSION:2.0
PRODID:-//St. Nikolaus Schützenbruderschaft 1702 e.V. Freienohl - ECPv6.6.2//NONSGML v1.0//EN
CALSCALE:GREGORIAN
METHOD:PUBLISH
X-WR-CALNAME:St. Nikolaus Schützenbruderschaft 1702 e.V. Freienohl
X-ORIGINAL-URL:https://schuetzen-freienohl.de
X-WR-CALDESC:Veranstaltungen für St. Nikolaus Schützenbruderschaft 1702 e.V. Freienohl
REFRESH-INTERVAL;VALUE=DURATION:PT1H
X-Robots-Tag:noindex
X-PUBLISHED-TTL:PT1H
BEGIN:VTIMEZONE
TZID:Europe/Berlin
BEGIN:DAYLIGHT
TZOFFSETFROM:+0100
TZOFFSETTO:+0200
TZNAME:CEST
DTSTART:20260329T010000
END:DAYLIGHT
BEGIN:STANDARD
TZOFFSETFROM:+0200
TZOFFSETTO:+0100
TZNAME:CET
DTSTART:20261025T010000
END:STANDARD
TZID:Europe/Helsinki
BEGIN:DAYLIGHT
TZOFFSETFROM:+0200
TZOFFSETTO:+0300
TZNAME:EEST
DTSTART:20260329T010000
END:DAYLIGHT
BEGIN:STANDARD
TZOFFSETFROM:+0300
TZOFFSETTO:+0200
TZNAME:EET
DTSTART:20261025T010000
END:STANDARD
END:VTIMEZONE
BEGIN:VEVENT
DTSTART;VALUE=DATE:20260828
DTEND;VALUE=DATE:20260831
DTSTAMP:20260423T183154
CREATED:20260202T122622Z
LAST-MODIFIED:20260202T122622Z
UID:8057-1787875200-1788134399@schuetzen-freienohl.de
SUMMARY:TuRa "Alte Herren" - Borkumfahrt
DESCRIPTION:
URL:https://schuetzen-freienohl.de/event/tura-alte-herren-borkumfahrt-3
LOCATION:Freienohl
END:VEVENT
BEGIN:VEVENT
DTSTART;VALUE=DATE:20260828
DTEND;VALUE=DATE:20260831
DTSTAMP:20260423T183154
CREATED:20260202T122714Z
LAST-MODIFIED:20260202T122714Z
UID:8059-1787875200-1788134399@schuetzen-freienohl.de
SUMMARY:Tennisverein - Doppelkreismeisterschaften
DESCRIPTION:
URL:https://schuetzen-freienohl.de/event/tennisverein-doppelkreismeisterschaften
LOCATION:Tennisheim Freienohl\, Im Ohl 11\, Meschede\, NRW\, 59872\, Deutschland
ATTACH;FMTTYPE=image/jpeg:https://schuetzen-freienohl.de/wp-content/uploads/2024/04/tennis-5782695_1280.jpg
END:VEVENT
BEGIN:VEVENT
DTSTART;VALUE=DATE:20260905
DTEND;VALUE=DATE:20260906
DTSTAMP:20260423T183154
CREATED:20260202T122814Z
LAST-MODIFIED:20260202T122814Z
UID:8061-1788566400-1788652799@schuetzen-freienohl.de
SUMMARY:Bataillonsschießen der Schützenbruderschaft
DESCRIPTION:
URL:https://schuetzen-freienohl.de/event/bataillonsschiessen-der-schuetzenbruderschaft
LOCATION:Speisesaal der Schützenhalle Freienohl\, Pestalozzistr. 2\, Meschede\, NRW\, 59872\, Deutschland
ATTACH;FMTTYPE=image/jpeg:https://schuetzen-freienohl.de/wp-content/uploads/2025/01/277583363_141365915094430_1216645814530044177_n.jpg
ORGANIZER;CN="St. Nikolaus Sch%C3%BCtzenbruderschaft":MAILTO:info@schuetzen-freienohl.de
END:VEVENT
BEGIN:VEVENT
DTSTART;VALUE=DATE:20260905
DTEND;VALUE=DATE:20260906
DTSTAMP:20260423T183154
CREATED:20260202T122904Z
LAST-MODIFIED:20260202T122904Z
UID:8063-1788566400-1788652799@schuetzen-freienohl.de
SUMMARY:SGV Freienohl - Sommerfest mit Kartoffelbraten
DESCRIPTION:
URL:https://schuetzen-freienohl.de/event/sgv-freienohl-sommerfest-mit-kartoffelbraten
LOCATION:Freienohl
ATTACH;FMTTYPE=image/jpeg:https://schuetzen-freienohl.de/wp-content/uploads/2024/04/mountaineers-5649828_640.jpg
END:VEVENT
BEGIN:VEVENT
DTSTART;VALUE=DATE:20260906
DTEND;VALUE=DATE:20260907
DTSTAMP:20260423T183154
CREATED:20260202T122959Z
LAST-MODIFIED:20260202T122959Z
UID:8065-1788652800-1788739199@schuetzen-freienohl.de
SUMMARY:2. Kompanie - Seniorentag
DESCRIPTION:
URL:https://schuetzen-freienohl.de/event/2-kompanie-seniorentag-3
LOCATION:Freizeitanlage am Küppel der Zweiten Kompanie\, Alte Wiese 10\, Meschede\, NRW\, 59872\, Deutschland
ATTACH;FMTTYPE=image/jpeg:https://schuetzen-freienohl.de/wp-content/uploads/2024/04/2.-Kompanie-scaled.jpg
ORGANIZER;CN="Zweite Kompanie der St. Nikolaus Sch%C3%BCtzenbruderschaft":MAILTO:info@schuetzen-freienohl.de
END:VEVENT
BEGIN:VEVENT
DTSTART;VALUE=DATE:20260912
DTEND;VALUE=DATE:20260913
DTSTAMP:20260423T183154
CREATED:20260202T123045Z
LAST-MODIFIED:20260202T123045Z
UID:8067-1789171200-1789257599@schuetzen-freienohl.de
SUMMARY:SGV Freienohl - Marathonwanderung
DESCRIPTION:
URL:https://schuetzen-freienohl.de/event/sgv-freienohl-marathonwanderung
LOCATION:Freienohl
END:VEVENT
BEGIN:VEVENT
DTSTART;VALUE=DATE:20260912
DTEND;VALUE=DATE:20260913
DTSTAMP:20260423T183154
CREATED:20260202T123123Z
LAST-MODIFIED:20260202T123923Z
UID:8069-1789171200-1789257599@schuetzen-freienohl.de
SUMMARY:CCG Westfalen Meschede - Offener Clubabend
DESCRIPTION:
URL:https://schuetzen-freienohl.de/event/ccg-westfalen-meschede-offener-clubabend-6
LOCATION:Clubhaus des Chopper Club Germany in Freienohl\, Im Ohl 19\, Meschede\, NRW\, 59872\, Germany
ATTACH;FMTTYPE=image/jpeg:https://schuetzen-freienohl.de/wp-content/uploads/2026/02/483837895_9680645651956467_1119831006593296564_n.jpg
END:VEVENT
BEGIN:VEVENT
DTSTART;VALUE=DATE:20260918
DTEND;VALUE=DATE:20260921
DTSTAMP:20260423T183154
CREATED:20260202T123212Z
LAST-MODIFIED:20260202T123857Z
UID:8071-1789689600-1789948799@schuetzen-freienohl.de
SUMMARY:Kreisschützenfest (Amt Balve)
DESCRIPTION:
URL:https://schuetzen-freienohl.de/event/kreisschuetzenfest-amt-balve
LOCATION:Freienohl
ATTACH;FMTTYPE=image/jpeg:https://schuetzen-freienohl.de/wp-content/uploads/2025/01/Schu╠etzenfest-2019_Freienohl_Bild-197-1-scaled.jpeg
ORGANIZER;CN="St. Nikolaus Sch%C3%BCtzenbruderschaft":MAILTO:info@schuetzen-freienohl.de
END:VEVENT
BEGIN:VEVENT
DTSTART;VALUE=DATE:20260919
DTEND;VALUE=DATE:20260920
DTSTAMP:20260423T183154
CREATED:20260202T123258Z
LAST-MODIFIED:20260202T123258Z
UID:8073-1789776000-1789862399@schuetzen-freienohl.de
SUMMARY:TuRa "Alte Herren" - Papiersammlung am Sportplatz
DESCRIPTION:
URL:https://schuetzen-freienohl.de/event/tura-alte-herren-papiersammlung-am-sportplatz-2
LOCATION:TuRa Freienohl – Sportlerheim\, Im Ohl 1\, Meschede\, NRW\, 59872\, Deutschland
ATTACH;FMTTYPE=image/png:https://schuetzen-freienohl.de/wp-content/uploads/2024/04/LogoTura.png
END:VEVENT
BEGIN:VEVENT
DTSTART;VALUE=DATE:20260926
DTEND;VALUE=DATE:20260927
DTSTAMP:20260423T183154
CREATED:20260202T123345Z
LAST-MODIFIED:20260202T123746Z
UID:8075-1790380800-1790467199@schuetzen-freienohl.de
SUMMARY:TuRa "Alte Herren" - Herbstwanderung
DESCRIPTION:
URL:https://schuetzen-freienohl.de/event/tura-alte-herren-herbstwanderung-2
LOCATION:Freienohl
END:VEVENT
BEGIN:VEVENT
DTSTART;VALUE=DATE:20260926
DTEND;VALUE=DATE:20260927
DTSTAMP:20260423T183154
CREATED:20260202T123432Z
LAST-MODIFIED:20260202T123450Z
UID:8077-1790380800-1790467199@schuetzen-freienohl.de
SUMMARY:ASV Äsche - Abangeln
DESCRIPTION:
URL:https://schuetzen-freienohl.de/event/asv-aesche-abangeln-2
LOCATION:Freienohl
ATTACH;FMTTYPE=image/jpeg:https://schuetzen-freienohl.de/wp-content/uploads/2024/04/header_defaultImage.jpg
END:VEVENT
BEGIN:VEVENT
DTSTART;VALUE=DATE:20261003
DTEND;VALUE=DATE:20261004
DTSTAMP:20260423T183154
CREATED:20260202T123653Z
LAST-MODIFIED:20260202T123726Z
UID:8079-1790985600-1791071999@schuetzen-freienohl.de
SUMMARY:CCG Westfalen Meschede - Offener Clubabend
DESCRIPTION:
URL:https://schuetzen-freienohl.de/event/ccg-westfalen-meschede-offener-clubabend-7
LOCATION:Clubhaus des Chopper Club Germany in Freienohl\, Im Ohl 19\, Meschede\, NRW\, 59872\, Germany
ATTACH;FMTTYPE=image/jpeg:https://schuetzen-freienohl.de/wp-content/uploads/2026/02/483837895_9680645651956467_1119831006593296564_n.jpg
END:VEVENT
BEGIN:VEVENT
DTSTART;VALUE=DATE:20261003
DTEND;VALUE=DATE:20261004
DTSTAMP:20260423T183154
CREATED:20260202T124100Z
LAST-MODIFIED:20260202T124100Z
UID:8082-1790985600-1791071999@schuetzen-freienohl.de
SUMMARY:TuRa Schwimmen - Herbstschwimmfest
DESCRIPTION:
URL:https://schuetzen-freienohl.de/event/tura-schwimmen-herbstschwimmfest-2
LOCATION:PCE-Instruments-Bad\, Im Ohl 13\, Meschede\, NRW\, 59872\, Deutschland
ATTACH;FMTTYPE=image/png:https://schuetzen-freienohl.de/wp-content/uploads/2024/04/LogoTura.png
END:VEVENT
BEGIN:VEVENT
DTSTART;VALUE=DATE:20261010
DTEND;VALUE=DATE:20261011
DTSTAMP:20260423T183154
CREATED:20260202T124207Z
LAST-MODIFIED:20260202T124207Z
UID:8084-1791590400-1791676799@schuetzen-freienohl.de
SUMMARY:3. Kompanie - Wandertag
DESCRIPTION:
URL:https://schuetzen-freienohl.de/event/3-kompanie-wandertag-2
LOCATION:Festplatz der Dritten Kompanie\, Im Ohl 19a\, Meschede\, NRW\, 59872\, Deutschland
ATTACH;FMTTYPE=image/jpeg:https://schuetzen-freienohl.de/wp-content/uploads/2024/04/3.-Kompanie-scaled.jpg
ORGANIZER;CN="Dritte Kompanie der St. Nikolaus Sch%C3%BCtzenbruderschaft":MAILTO:info@schuetzen-freienohl.de
END:VEVENT
BEGIN:VEVENT
DTSTART;VALUE=DATE:20261017
DTEND;VALUE=DATE:20261018
DTSTAMP:20260423T183154
CREATED:20260202T133950Z
LAST-MODIFIED:20260202T133950Z
UID:8086-1792195200-1792281599@schuetzen-freienohl.de
SUMMARY:3. Kompanie - Papiersammlung
DESCRIPTION:
URL:https://schuetzen-freienohl.de/event/3-kompanie-papiersammlung-6
LOCATION:Festplatz der Dritten Kompanie\, Im Ohl 19a\, Meschede\, NRW\, 59872\, Deutschland
ATTACH;FMTTYPE=image/jpeg:https://schuetzen-freienohl.de/wp-content/uploads/2024/04/3.-Kompanie-scaled.jpg
ORGANIZER;CN="Dritte Kompanie der St. Nikolaus Sch%C3%BCtzenbruderschaft":MAILTO:info@schuetzen-freienohl.de
END:VEVENT
BEGIN:VEVENT
DTSTART;VALUE=DATE:20261017
DTEND;VALUE=DATE:20261018
DTSTAMP:20260423T183154
CREATED:20260202T134044Z
LAST-MODIFIED:20260202T134044Z
UID:8088-1792195200-1792281599@schuetzen-freienohl.de
SUMMARY:2. Kompanie - Kartoffelbraten
DESCRIPTION:
URL:https://schuetzen-freienohl.de/event/2-kompanie-kartoffelbraten
LOCATION:Freizeitanlage am Küppel der Zweiten Kompanie\, Alte Wiese 10\, Meschede\, NRW\, 59872\, Deutschland
ORGANIZER;CN="Zweite Kompanie der St. Nikolaus Sch%C3%BCtzenbruderschaft":MAILTO:info@schuetzen-freienohl.de
END:VEVENT
BEGIN:VEVENT
DTSTART;VALUE=DATE:20261026
DTEND;VALUE=DATE:20261031
DTSTAMP:20260423T183154
CREATED:20260202T134136Z
LAST-MODIFIED:20260202T134136Z
UID:8090-1792972800-1793404799@schuetzen-freienohl.de
SUMMARY:TuRa Handball - Handballcamp
DESCRIPTION:
URL:https://schuetzen-freienohl.de/event/tura-handball-handballcamp
LOCATION:Ruhrtalhalle Oeventrop\, In den Oeren\, Arnsberg\, NRW\, 59823\, Germany
ATTACH;FMTTYPE=image/png:https://schuetzen-freienohl.de/wp-content/uploads/2024/04/LogoTura.png
END:VEVENT
BEGIN:VEVENT
DTSTART;VALUE=DATE:20261031
DTEND;VALUE=DATE:20261101
DTSTAMP:20260423T183154
CREATED:20260202T134229Z
LAST-MODIFIED:20260202T134229Z
UID:8092-1793404800-1793491199@schuetzen-freienohl.de
SUMMARY:TuRa "Alte Herren" - Jahresversammlung
DESCRIPTION:
URL:https://schuetzen-freienohl.de/event/tura-alte-herren-jahresversammlung-3
LOCATION:TuRa Freienohl – Sportlerheim\, Im Ohl 1\, Meschede\, NRW\, 59872\, Deutschland
ATTACH;FMTTYPE=image/png:https://schuetzen-freienohl.de/wp-content/uploads/2024/04/LogoTura.png
END:VEVENT
BEGIN:VEVENT
DTSTART;VALUE=DATE:20261108
DTEND;VALUE=DATE:20261109
DTSTAMP:20260423T183154
CREATED:20260202T134536Z
LAST-MODIFIED:20260202T134536Z
UID:8094-1794096000-1794182399@schuetzen-freienohl.de
SUMMARY:Generalversammlung der Schützenbruderschaft
DESCRIPTION:
URL:https://schuetzen-freienohl.de/event/generalversammlung-der-schuetzenbruderschaft-2
LOCATION:Speisesaal der Schützenhalle Freienohl\, Pestalozzistr. 2\, Meschede\, NRW\, 59872\, Deutschland
ORGANIZER;CN="St. Nikolaus Sch%C3%BCtzenbruderschaft":MAILTO:info@schuetzen-freienohl.de
END:VEVENT
BEGIN:VEVENT
DTSTART;VALUE=DATE:20261109
DTEND;VALUE=DATE:20261110
DTSTAMP:20260423T183154
CREATED:20260202T134636Z
LAST-MODIFIED:20260202T134636Z
UID:8096-1794182400-1794268799@schuetzen-freienohl.de
SUMMARY:Terminabsprache Veranstaltungskalender 2027
DESCRIPTION:
URL:https://schuetzen-freienohl.de/event/terminabsprache-veranstaltungskalender-2027
LOCATION:Speisesaal der Schützenhalle Freienohl\, Pestalozzistr. 2\, Meschede\, NRW\, 59872\, Deutschland
ATTACH;FMTTYPE=image/jpeg:https://schuetzen-freienohl.de/wp-content/uploads/2020/07/FB_IMG_1594981983172_copy_1600x1067.jpg
ORGANIZER;CN="St. Nikolaus Sch%C3%BCtzenbruderschaft":MAILTO:info@schuetzen-freienohl.de
END:VEVENT
BEGIN:VEVENT
DTSTART;VALUE=DATE:20261112
DTEND;VALUE=DATE:20261113
DTSTAMP:20260423T183154
CREATED:20260202T134803Z
LAST-MODIFIED:20260202T134932Z
UID:8098-1794441600-1794527999@schuetzen-freienohl.de
SUMMARY:TuRa "Alte Herren" - Treff bei Luckai
DESCRIPTION:
URL:https://schuetzen-freienohl.de/event/tura-alte-herren-treff-bei-luckai-4
LOCATION:Freienohl
ATTACH;FMTTYPE=image/png:https://schuetzen-freienohl.de/wp-content/uploads/2024/04/LogoTura.png
END:VEVENT
BEGIN:VEVENT
DTSTART;VALUE=DATE:20261114
DTEND;VALUE=DATE:20261115
DTSTAMP:20260423T183154
CREATED:20260202T135028Z
LAST-MODIFIED:20260202T135028Z
UID:8100-1794614400-1794700799@schuetzen-freienohl.de
SUMMARY:CCG Westfalen Meschede - Offener Clubabend
DESCRIPTION:
URL:https://schuetzen-freienohl.de/event/ccg-westfalen-meschede-offener-clubabend-8
LOCATION:Clubhaus des Chopper Club Germany in Freienohl\, Im Ohl 19\, Meschede\, NRW\, 59872\, Germany
ATTACH;FMTTYPE=image/jpeg:https://schuetzen-freienohl.de/wp-content/uploads/2026/02/483837895_9680645651956467_1119831006593296564_n.jpg
END:VEVENT
BEGIN:VEVENT
DTSTART;VALUE=DATE:20261115
DTEND;VALUE=DATE:20261116
DTSTAMP:20260423T183154
CREATED:20260202T135202Z
LAST-MODIFIED:20260202T135202Z
UID:8102-1794700800-1794787199@schuetzen-freienohl.de
SUMMARY:Gedenkstunde zum Volkstrauertag für alle Vereine und Institutionen Freienohls
DESCRIPTION:
URL:https://schuetzen-freienohl.de/event/gedenkstunde-zum-volkstrauertag-fuer-alle-vereine-und-institutionen-freienohls
LOCATION:Schützenhalle Freienohl\, Pestalozzistraße 2\, Meschede - Freienohl\, NRW\, 59872\, Deutschland
ATTACH;FMTTYPE=image/jpeg:https://schuetzen-freienohl.de/wp-content/uploads/2020/07/FB_IMG_1594981988344_copy_1600x1067.jpg
ORGANIZER;CN="St. Nikolaus Sch%C3%BCtzenbruderschaft":MAILTO:info@schuetzen-freienohl.de
END:VEVENT
BEGIN:VEVENT
DTSTART;VALUE=DATE:20261121
DTEND;VALUE=DATE:20261122
DTSTAMP:20260423T183154
CREATED:20260202T135337Z
LAST-MODIFIED:20260202T135345Z
UID:8104-1795219200-1795305599@schuetzen-freienohl.de
SUMMARY:WDR 4 Disco 44
DESCRIPTION:
URL:https://schuetzen-freienohl.de/event/wdr-4-disco-44-2
LOCATION:Schützenhalle Freienohl\, Pestalozzistraße 2\, Meschede - Freienohl\, NRW\, 59872\, Deutschland
ATTACH;FMTTYPE=image/jpeg:https://schuetzen-freienohl.de/wp-content/uploads/2025/01/WDR4.jpg
ORGANIZER;CN="St. Nikolaus Sch%C3%BCtzenbruderschaft":MAILTO:info@schuetzen-freienohl.de
END:VEVENT
BEGIN:VEVENT
DTSTART;VALUE=DATE:20261122
DTEND;VALUE=DATE:20261123
DTSTAMP:20260423T183154
CREATED:20260202T135438Z
LAST-MODIFIED:20260202T135438Z
UID:8106-1795305600-1795391999@schuetzen-freienohl.de
SUMMARY:Cäcilia/Vocalitas - Patronatsfest
DESCRIPTION:
URL:https://schuetzen-freienohl.de/event/caecilia-vocalitas-patronatsfest
LOCATION:Pfarrheim Freienohl\, Twiete 8\, Meschede\, NRW\, 59872\, Germany
ATTACH;FMTTYPE=image/jpeg:https://schuetzen-freienohl.de/wp-content/uploads/2024/04/musiknoten_144627-33651.jpg
END:VEVENT
BEGIN:VEVENT
DTSTART;VALUE=DATE:20261128
DTEND;VALUE=DATE:20261129
DTSTAMP:20260423T183154
CREATED:20260202T135651Z
LAST-MODIFIED:20260202T135651Z
UID:8110-1795824000-1795910399@schuetzen-freienohl.de
SUMMARY:Stadtvorständefest der Schützen
DESCRIPTION:
URL:https://schuetzen-freienohl.de/event/stadtvorstaendefest-der-schuetzen-2
LOCATION:Freienohl
ATTACH;FMTTYPE=image/jpeg:https://schuetzen-freienohl.de/wp-content/uploads/2022/03/1920-1280-max-4.jpg
ORGANIZER;CN="St. Nikolaus Sch%C3%BCtzenbruderschaft":MAILTO:info@schuetzen-freienohl.de
END:VEVENT
BEGIN:VEVENT
DTSTART;VALUE=DATE:20261128
DTEND;VALUE=DATE:20261130
DTSTAMP:20260423T183154
CREATED:20260202T135605Z
LAST-MODIFIED:20260202T135605Z
UID:8108-1795824000-1795996799@schuetzen-freienohl.de
SUMMARY:Gemütlicher Freienohler Weihnachtsmarkt am Platz der Zweiten Kompanie
DESCRIPTION:
URL:https://schuetzen-freienohl.de/event/gemuetlicher-freienohler-weihnachtsmarkt-am-platz-der-zweiten-kompanie
LOCATION:Freizeitanlage am Küppel der Zweiten Kompanie\, Alte Wiese 10\, Meschede\, NRW\, 59872\, Deutschland
ATTACH;FMTTYPE=image/jpeg:https://schuetzen-freienohl.de/wp-content/uploads/2025/01/36412807-weihnachtsmarkt-in-freienohl-die-fotos-NMBG.jpg
ORGANIZER;CN="Zweite Kompanie der St. Nikolaus Sch%C3%BCtzenbruderschaft":MAILTO:info@schuetzen-freienohl.de
END:VEVENT
BEGIN:VEVENT
DTSTART;VALUE=DATE:20261204
DTEND;VALUE=DATE:20261205
DTSTAMP:20260423T183154
CREATED:20260202T135756Z
LAST-MODIFIED:20260202T135756Z
UID:8112-1796342400-1796428799@schuetzen-freienohl.de
SUMMARY:1. Kompanie - Adventskaffee der Senioren
DESCRIPTION:
URL:https://schuetzen-freienohl.de/event/1-kompanie-adventskaffee-der-senioren-2
LOCATION:Freizeitheim Rümmecke der Ersten Kompanie\, Talweg 30\, Meschede\, NRW\, 59872\, Deutschland
ATTACH;FMTTYPE=image/jpeg:https://schuetzen-freienohl.de/wp-content/uploads/2024/04/1.-Kompanie-scaled.jpg
ORGANIZER;CN="Erste Kompanie der St. Nikolaus Sch%C3%BCtzenbruderschaft":MAILTO:info@schuetzen-freienohl.de
END:VEVENT
BEGIN:VEVENT
DTSTART;VALUE=DATE:20261205
DTEND;VALUE=DATE:20261206
DTSTAMP:20260423T183154
CREATED:20260202T135858Z
LAST-MODIFIED:20260202T135858Z
UID:8114-1796428800-1796515199@schuetzen-freienohl.de
SUMMARY:Tennisverein - Weihnachtsfeier
DESCRIPTION:
URL:https://schuetzen-freienohl.de/event/tennisverein-weihnachtsfeier-2
LOCATION:Tennisheim Freienohl\, Im Ohl 11\, Meschede\, NRW\, 59872\, Deutschland
ATTACH;FMTTYPE=image/jpeg:https://schuetzen-freienohl.de/wp-content/uploads/2024/04/tennis-5782695_1280.jpg
END:VEVENT
BEGIN:VEVENT
DTSTART;VALUE=DATE:20261206
DTEND;VALUE=DATE:20261207
DTSTAMP:20260423T183154
CREATED:20260202T135954Z
LAST-MODIFIED:20260202T135954Z
UID:8116-1796515200-1796601599@schuetzen-freienohl.de
SUMMARY:Patronatsfest der Gemeinde und der Schützenbruderschaft mit Frühschoppen und Ehrungen
DESCRIPTION:
URL:https://schuetzen-freienohl.de/event/patronatsfest-der-gemeinde-und-der-schuetzenbruderschaft-mit-fruehschoppen-und-ehrungen
LOCATION:Speisesaal der Schützenhalle Freienohl\, Pestalozzistr. 2\, Meschede\, NRW\, 59872\, Deutschland
ATTACH;FMTTYPE=image/jpeg:https://schuetzen-freienohl.de/wp-content/uploads/2020/07/FB_IMG_1594981983172_copy_1600x1067.jpg
ORGANIZER;CN="St. Nikolaus Sch%C3%BCtzenbruderschaft":MAILTO:info@schuetzen-freienohl.de
END:VEVENT
END:VCALENDAR