BEGIN:VCALENDAR
VERSION:2.0
PRODID:-//St. Nikolaus Schützenbruderschaft 1702 e.V. Freienohl - ECPv6.6.2//NONSGML v1.0//EN
CALSCALE:GREGORIAN
METHOD:PUBLISH
X-WR-CALNAME:St. Nikolaus Schützenbruderschaft 1702 e.V. Freienohl
X-ORIGINAL-URL:https://schuetzen-freienohl.de
X-WR-CALDESC:Veranstaltungen für St. Nikolaus Schützenbruderschaft 1702 e.V. Freienohl
REFRESH-INTERVAL;VALUE=DURATION:PT1H
X-Robots-Tag:noindex
X-PUBLISHED-TTL:PT1H
BEGIN:VTIMEZONE
TZID:Europe/Berlin
BEGIN:DAYLIGHT
TZOFFSETFROM:+0100
TZOFFSETTO:+0200
TZNAME:CEST
DTSTART:20260329T010000
END:DAYLIGHT
BEGIN:STANDARD
TZOFFSETFROM:+0200
TZOFFSETTO:+0100
TZNAME:CET
DTSTART:20261025T010000
END:STANDARD
END:VTIMEZONE
BEGIN:VEVENT
DTSTART;VALUE=DATE:20260604
DTEND;VALUE=DATE:20260605
DTSTAMP:20260424T031353
CREATED:20260202T120743Z
LAST-MODIFIED:20260202T120743Z
UID:8019-1780531200-1780617599@schuetzen-freienohl.de
SUMMARY:Fronleichnamsprozession
DESCRIPTION:
URL:https://schuetzen-freienohl.de/event/fronleichnamsprozession-3
LOCATION:St. Nikolaus Kirche Freienohl
ATTACH;FMTTYPE=image/jpeg:https://schuetzen-freienohl.de/wp-content/uploads/2021/11/K_1035_Freienohl_St._Nikolaus-scaled.jpg
ORGANIZER;CN="St. Nikolaus Sch%C3%BCtzenbruderschaft":MAILTO:info@schuetzen-freienohl.de
END:VEVENT
BEGIN:VEVENT
DTSTART;VALUE=DATE:20260606
DTEND;VALUE=DATE:20260607
DTSTAMP:20260424T031353
CREATED:20260202T120855Z
LAST-MODIFIED:20260202T120855Z
UID:8021-1780704000-1780790399@schuetzen-freienohl.de
SUMMARY:Besuch Schützenfest Meschede
DESCRIPTION:
URL:https://schuetzen-freienohl.de/event/besuch-schuetzenfest-meschede-2
LOCATION:Freienohl
ATTACH;FMTTYPE=image/jpeg:https://schuetzen-freienohl.de/wp-content/uploads/2025/01/Schu╠etzenfest-2019_Freienohl_Bild-197-1-scaled.jpeg
ORGANIZER;CN="St. Nikolaus Sch%C3%BCtzenbruderschaft":MAILTO:info@schuetzen-freienohl.de
END:VEVENT
BEGIN:VEVENT
DTSTART;VALUE=DATE:20260606
DTEND;VALUE=DATE:20260607
DTSTAMP:20260424T031353
CREATED:20260202T120941Z
LAST-MODIFIED:20260202T120941Z
UID:8023-1780704000-1780790399@schuetzen-freienohl.de
SUMMARY:MGV Liedertafel - Wanderung
DESCRIPTION:
URL:https://schuetzen-freienohl.de/event/mgv-liedertafel-wanderung
LOCATION:Freienohl
END:VEVENT
BEGIN:VEVENT
DTSTART;VALUE=DATE:20260613
DTEND;VALUE=DATE:20260614
DTSTAMP:20260424T031353
CREATED:20260202T121116Z
LAST-MODIFIED:20260202T121141Z
UID:8027-1781308800-1781395199@schuetzen-freienohl.de
SUMMARY:3. Kompanie - Papiersammlung
DESCRIPTION:
URL:https://schuetzen-freienohl.de/event/3-kompanie-papiersammlung-5
LOCATION:Freienohl
ATTACH;FMTTYPE=image/jpeg:https://schuetzen-freienohl.de/wp-content/uploads/2024/04/3.-Kompanie-scaled.jpg
ORGANIZER;CN="Dritte Kompanie der St. Nikolaus Sch%C3%BCtzenbruderschaft":MAILTO:info@schuetzen-freienohl.de
END:VEVENT
BEGIN:VEVENT
DTSTART;VALUE=DATE:20260613
DTEND;VALUE=DATE:20260615
DTSTAMP:20260424T031353
CREATED:20260202T121033Z
LAST-MODIFIED:20260202T124435Z
UID:8025-1781308800-1781481599@schuetzen-freienohl.de
SUMMARY:2. Kompanie - Sommerfest
DESCRIPTION:
URL:https://schuetzen-freienohl.de/event/2-kompanie-sommerfest-2
LOCATION:Freizeitanlage am Küppel der Zweiten Kompanie\, Alte Wiese 10\, Meschede\, NRW\, 59872\, Deutschland
ATTACH;FMTTYPE=image/jpeg:https://schuetzen-freienohl.de/wp-content/uploads/2024/04/2.-Kompanie-scaled.jpg
ORGANIZER;CN="Zweite Kompanie der St. Nikolaus Sch%C3%BCtzenbruderschaft":MAILTO:info@schuetzen-freienohl.de
END:VEVENT
BEGIN:VEVENT
DTSTART;VALUE=DATE:20260614
DTEND;VALUE=DATE:20260615
DTSTAMP:20260424T031353
CREATED:20260202T121221Z
LAST-MODIFIED:20260202T121221Z
UID:8029-1781395200-1781481599@schuetzen-freienohl.de
SUMMARY:SGV Freienohl - QiGong-Wanderung
DESCRIPTION:
URL:https://schuetzen-freienohl.de/event/sgv-freienohl-qigong-wanderung
LOCATION:Freienohl
ATTACH;FMTTYPE=image/jpeg:https://schuetzen-freienohl.de/wp-content/uploads/2024/04/mountaineers-5649828_640.jpg
END:VEVENT
BEGIN:VEVENT
DTSTART;VALUE=DATE:20260620
DTEND;VALUE=DATE:20260621
DTSTAMP:20260424T031353
CREATED:20260202T121336Z
LAST-MODIFIED:20260202T121336Z
UID:8031-1781913600-1781999999@schuetzen-freienohl.de
SUMMARY:CCG Westfalen Meschede - Offener Clubabend
DESCRIPTION:
URL:https://schuetzen-freienohl.de/event/ccg-westfalen-meschede-offener-clubabend-4
LOCATION:Clubhaus des Chopper Club Germany in Freienohl\, Im Ohl 19\, Meschede\, NRW\, 59872\, Germany
ATTACH;FMTTYPE=image/jpeg:https://schuetzen-freienohl.de/wp-content/uploads/2026/02/483837895_9680645651956467_1119831006593296564_n.jpg
END:VEVENT
BEGIN:VEVENT
DTSTART;VALUE=DATE:20260620
DTEND;VALUE=DATE:20260621
DTSTAMP:20260424T031353
CREATED:20260202T121435Z
LAST-MODIFIED:20260202T121435Z
UID:8033-1781913600-1781999999@schuetzen-freienohl.de
SUMMARY:ASV Äsche - Königsangeln
DESCRIPTION:
URL:https://schuetzen-freienohl.de/event/asv-aesche-koenigsangeln-2
LOCATION:Freienohl
ATTACH;FMTTYPE=image/jpeg:https://schuetzen-freienohl.de/wp-content/uploads/2024/04/header_defaultImage.jpg
END:VEVENT
BEGIN:VEVENT
DTSTART;VALUE=DATE:20260627
DTEND;VALUE=DATE:20260628
DTSTAMP:20260424T031353
CREATED:20260202T121615Z
LAST-MODIFIED:20260202T121615Z
UID:8037-1782518400-1782604799@schuetzen-freienohl.de
SUMMARY:TuRa Volleyball - Beachvolleyball-Dorfturnier
DESCRIPTION:
URL:https://schuetzen-freienohl.de/event/tura-volleyball-beachvolleyball-dorfturnier-2
LOCATION:PCE-Instruments-Bad\, Im Ohl 13\, Meschede\, NRW\, 59872\, Deutschland
ATTACH;FMTTYPE=image/png:https://schuetzen-freienohl.de/wp-content/uploads/2024/04/LogoTura.png
END:VEVENT
BEGIN:VEVENT
DTSTART;VALUE=DATE:20260627
DTEND;VALUE=DATE:20260629
DTSTAMP:20260424T031353
CREATED:20260202T121522Z
LAST-MODIFIED:20260202T124512Z
UID:8035-1782518400-1782691199@schuetzen-freienohl.de
SUMMARY:1. Kompanie - Kompaniefest
DESCRIPTION:
URL:https://schuetzen-freienohl.de/event/1-kompanie-kompaniefest-2
LOCATION:Freizeitheim Rümmecke der Ersten Kompanie\, Talweg 30\, Meschede\, NRW\, 59872\, Deutschland
ATTACH;FMTTYPE=image/jpeg:https://schuetzen-freienohl.de/wp-content/uploads/2024/04/1.-Kompanie-scaled.jpg
ORGANIZER;CN="Erste Kompanie der St. Nikolaus Sch%C3%BCtzenbruderschaft":MAILTO:info@schuetzen-freienohl.de
END:VEVENT
END:VCALENDAR