BEGIN:VCALENDAR
VERSION:2.0
PRODID:-//St. Nikolaus Schützenbruderschaft 1702 e.V. Freienohl - ECPv6.6.2//NONSGML v1.0//EN
CALSCALE:GREGORIAN
METHOD:PUBLISH
X-WR-CALNAME:St. Nikolaus Schützenbruderschaft 1702 e.V. Freienohl
X-ORIGINAL-URL:https://schuetzen-freienohl.de
X-WR-CALDESC:Veranstaltungen für St. Nikolaus Schützenbruderschaft 1702 e.V. Freienohl
REFRESH-INTERVAL;VALUE=DURATION:PT1H
X-Robots-Tag:noindex
X-PUBLISHED-TTL:PT1H
BEGIN:VTIMEZONE
TZID:Europe/Berlin
BEGIN:DAYLIGHT
TZOFFSETFROM:+0100
TZOFFSETTO:+0200
TZNAME:CEST
DTSTART:20260329T010000
END:DAYLIGHT
BEGIN:STANDARD
TZOFFSETFROM:+0200
TZOFFSETTO:+0100
TZNAME:CET
DTSTART:20261025T010000
END:STANDARD
END:VTIMEZONE
BEGIN:VEVENT
DTSTART;VALUE=DATE:20260704
DTEND;VALUE=DATE:20260705
DTSTAMP:20260424T044241
CREATED:20260202T121711Z
LAST-MODIFIED:20260202T121711Z
UID:8039-1783123200-1783209599@schuetzen-freienohl.de
SUMMARY:Besuch Schützenfest Oeventrop
DESCRIPTION:
URL:https://schuetzen-freienohl.de/event/besuch-schuetzenfest-oeventrop-2
LOCATION:Schützenhalle Oeventrop\, In den Oeren 1\, Arnsberg\, NRW\, 59823\, Deutschland
ATTACH;FMTTYPE=image/jpeg:https://schuetzen-freienohl.de/wp-content/uploads/2025/01/Schu╠etzenfest-2019_Freienohl_Bild-197-1-scaled.jpeg
END:VEVENT
BEGIN:VEVENT
DTSTART;VALUE=DATE:20260705
DTEND;VALUE=DATE:20260706
DTSTAMP:20260424T044241
CREATED:20260202T121806Z
LAST-MODIFIED:20260202T121806Z
UID:8041-1783209600-1783295999@schuetzen-freienohl.de
SUMMARY:Küppelprozession
DESCRIPTION:
URL:https://schuetzen-freienohl.de/event/kueppelprozession-2
LOCATION:St. Nikolaus Kirche Freienohl
ATTACH;FMTTYPE=image/jpeg:https://schuetzen-freienohl.de/wp-content/uploads/2021/11/K_1035_Freienohl_St._Nikolaus-scaled.jpg
ORGANIZER;CN="St. Nikolaus Sch%C3%BCtzenbruderschaft":MAILTO:info@schuetzen-freienohl.de
END:VEVENT
BEGIN:VEVENT
DTSTART;VALUE=DATE:20260711
DTEND;VALUE=DATE:20260714
DTSTAMP:20260424T044241
CREATED:20260202T121851Z
LAST-MODIFIED:20260202T124408Z
UID:8043-1783728000-1783987199@schuetzen-freienohl.de
SUMMARY:Schützenfest Freienohl
DESCRIPTION:
URL:https://schuetzen-freienohl.de/event/schuetzenfest-freienohl-3
LOCATION:Schützenhalle Freienohl\, Pestalozzistraße 2\, Meschede - Freienohl\, NRW\, 59872\, Deutschland
ATTACH;FMTTYPE=image/jpeg:https://schuetzen-freienohl.de/wp-content/uploads/2025/01/Schuetzenfest2024_Samstag_Bild-251-scaled.jpg
ORGANIZER;CN="St. Nikolaus Sch%C3%BCtzenbruderschaft":MAILTO:info@schuetzen-freienohl.de
END:VEVENT
BEGIN:VEVENT
DTSTART;VALUE=DATE:20260714
DTEND;VALUE=DATE:20260715
DTSTAMP:20260424T044241
CREATED:20260202T122008Z
LAST-MODIFIED:20260202T124339Z
UID:8045-1783987200-1784073599@schuetzen-freienohl.de
SUMMARY:Heringsbegraben / Nachfeiern aller drei Kompanien
DESCRIPTION:
URL:https://schuetzen-freienohl.de/event/heringsbegraben-nachfeiern-aller-drei-kompanien
LOCATION:Freienohl
ATTACH;FMTTYPE=image/jpeg:https://schuetzen-freienohl.de/wp-content/uploads/2025/01/Schu╠etzenfest-2019_Freienohl_Bild-197-1-scaled.jpeg
ORGANIZER;CN="St. Nikolaus Sch%C3%BCtzenbruderschaft":MAILTO:info@schuetzen-freienohl.de
END:VEVENT
BEGIN:VEVENT
DTSTART;VALUE=DATE:20260718
DTEND;VALUE=DATE:20260719
DTSTAMP:20260424T044241
CREATED:20260202T122118Z
LAST-MODIFIED:20260202T122118Z
UID:8047-1784332800-1784419199@schuetzen-freienohl.de
SUMMARY:CCG Westfalen Meschede - Offener Clubabend
DESCRIPTION:
URL:https://schuetzen-freienohl.de/event/ccg-westfalen-meschede-offener-clubabend-5
LOCATION:Clubhaus des Chopper Club Germany in Freienohl\, Im Ohl 19\, Meschede\, NRW\, 59872\, Germany
ATTACH;FMTTYPE=image/jpeg:https://schuetzen-freienohl.de/wp-content/uploads/2026/02/483837895_9680645651956467_1119831006593296564_n.jpg
END:VEVENT
END:VCALENDAR